BEGIN:VCALENDAR
VERSION:2.0
PRODID:-//Growing Places Indy - ECPv6.9.0//NONSGML v1.0//EN
CALSCALE:GREGORIAN
METHOD:PUBLISH
X-ORIGINAL-URL:https://www.growingplacesindy.org
X-WR-CALDESC:Events for Growing Places Indy
REFRESH-INTERVAL;VALUE=DURATION:PT1H
X-Robots-Tag:noindex
X-PUBLISHED-TTL:PT1H
BEGIN:VTIMEZONE
TZID:America/Indiana/Indianapolis
BEGIN:DAYLIGHT
TZOFFSETFROM:-0500
TZOFFSETTO:-0400
TZNAME:EDT
DTSTART:20210314T070000
END:DAYLIGHT
BEGIN:STANDARD
TZOFFSETFROM:-0400
TZOFFSETTO:-0500
TZNAME:EST
DTSTART:20211107T060000
END:STANDARD
END:VTIMEZONE
BEGIN:VEVENT
DTSTART;TZID=America/Indiana/Indianapolis:20210602T140000
DTEND;TZID=America/Indiana/Indianapolis:20210901T170000
DTSTAMP:20260420T234723
CREATED:20210528T120029Z
LAST-MODIFIED:20210527T141041Z
UID:6732-1622642400-1630515600@www.growingplacesindy.org
SUMMARY:IndyGo Food in Transit
DESCRIPTION:When: Every Wednesday\, from 2 p.m. – 5 p.m.\, June 2\, 2021\, through September 1\, 2021 \nWhere: Julia Carson IndyGo Transit Center (201 E. Washington St.\, Indianapolis\, IN\, 46204) \nThe Food in Transit program with IndyGo returns June 2\, 2021\, and runs every Wednesday from 2-5 p.m. until September 1\, 2021. The farm stand will be at the IndyGo Transit Center\, at 201 E. Washington St. \nFood in Transit is a farm stand that offers fresh\, affordable\, and locally grown produce to transit riders. Each week\, the farm stand will provide local vegetables with affordably priced bundles of $5 or $10. Cash\, SNAP\, EBT\, credit\, and debit are all accepted forms of payment. SNAP recipients receive a 50% discount on orders up to $10.
URL:https://www.growingplacesindy.org/event/indygo-food-in-transit
LOCATION:Julia M. Carson Transit Center\, 201 E Washington St\, Indianapolis\, IN\, 46204\, United States
CATEGORIES:Farm Stand,Public Events
ATTACH;FMTTYPE=image/jpeg:https://www.growingplacesindy.org/wp-content/uploads/2020/06/IndyGo-Food-in-Transit.jpg
END:VEVENT
END:VCALENDAR