BEGIN:VCALENDAR
VERSION:2.0
PRODID:-//Growing Places Indy - ECPv6.9.0//NONSGML v1.0//EN
CALSCALE:GREGORIAN
METHOD:PUBLISH
X-WR-CALNAME:Growing Places Indy
X-ORIGINAL-URL:https://www.growingplacesindy.org
X-WR-CALDESC:Events for Growing Places Indy
REFRESH-INTERVAL;VALUE=DURATION:PT1H
X-Robots-Tag:noindex
X-PUBLISHED-TTL:PT1H
BEGIN:VTIMEZONE
TZID:America/Indiana/Indianapolis
BEGIN:DAYLIGHT
TZOFFSETFROM:-0500
TZOFFSETTO:-0400
TZNAME:EDT
DTSTART:20200308T070000
END:DAYLIGHT
BEGIN:STANDARD
TZOFFSETFROM:-0400
TZOFFSETTO:-0500
TZNAME:EST
DTSTART:20201101T060000
END:STANDARD
END:VTIMEZONE
BEGIN:VEVENT
DTSTART;TZID=America/Indiana/Indianapolis:20200716T173000
DTEND;TZID=America/Indiana/Indianapolis:20200903T183000
DTSTAMP:20260425T115338
CREATED:20200717T152045Z
LAST-MODIFIED:20200717T152045Z
UID:5828-1594920600-1599157800@www.growingplacesindy.org
SUMMARY:Yoga at the Farm Stand
DESCRIPTION:Thursdays\, 5:30 – 6:30 PM \nJuly 16 through September 3 \nFarm Stand\, 727 N. Oriental Street\, Indianapolis\, IN 46202 \nJoin us for yoga every Thursday from 5:30 – 6:30 during our Summer Farm Stand! Our yoga classes are FREE and structured for yoga beginners\, so anyone can join in and enjoy. We host yoga on the covered stage behind our farm stand\, but classes may be relocated to the grassy area behind the Boner Fitness and Learning Center if class sizes are large. \nWe require participants to bring their own mats and socially distance during yoga classes. \nOur class is free\, but we appreciate donations!
URL:https://www.growingplacesindy.org/event/yoga-at-the-farm-stand
LOCATION:Growing Places Indy\, 727 N Oriental Street\, Indianapolis\, IN\, 46202\, United States
ATTACH;FMTTYPE=image/jpeg:https://www.growingplacesindy.org/wp-content/uploads/2020/07/IMG_4927-1-scaled.jpg
ORGANIZER;CN="Growing Places Indy":MAILTO:info@growingplacesindy.org
END:VEVENT
END:VCALENDAR